BEGIN:VCALENDAR
VERSION:2.0
PRODID:spatie/icalendar-generator
DESCRIPTION:Veranstaltungen von ASV Falkenberger Angelfreunde 1947 e.V.
X-WR-CALDESC:Veranstaltungen von ASV Falkenberger Angelfreunde 1947 e.V.
REFRESH-INTERVAL;VALUE=DURATION:PT1440M
X-PUBLISHED-TTL:PT1440M
BEGIN:VTIMEZONE
TZID:Europe/Berlin
BEGIN:DAYLIGHT
DTSTART:20250330T020000Z
TZOFFSETFROM:+0100
TZOFFSETTO:+0200
END:DAYLIGHT
BEGIN:STANDARD
DTSTART:20251026T030000Z
TZOFFSETFROM:+0200
TZOFFSETTO:+0100
END:STANDARD
END:VTIMEZONE
BEGIN:VTIMEZONE
TZID:UTC
BEGIN:STANDARD
DTSTART:20250726T230523Z
TZOFFSETFROM:+0000
TZOFFSETTO:+0000
END:STANDARD
END:VTIMEZONE
BEGIN:VEVENT
UID:67-65
DTSTAMP:20260422T230523Z
SUMMARY:60+ Angeln
LOCATION:Kiebitzer BT   Falkenberg/Elster  04895
ORGANIZER;CN=Thomas Voigt:MAILTO:thomas.voigt@falkenberger-angelfreunde.de
DTSTART;TZID=Europe/Berlin:20250920T100000
DTEND;TZID=Europe/Berlin:20250920T160000
X-ALT-DESC;FMTTYPE=TEXT/HTML:60+ Angeln Verlosung der Plätze um 09:15 Uhr
CATEGORIES:Gemeinschaftsangeln
URL;VALUE=URI:https://falkenberger-angelfreunde.de/mc-events/60-angeln-3/
METHOD:PUBLISH
END:VEVENT
END:VCALENDAR