BEGIN:VCALENDAR
VERSION:2.0
PRODID:spatie/icalendar-generator
DESCRIPTION:Veranstaltungen von ASV Falkenberger Angelfreunde 1947 e.V.
X-WR-CALDESC:Veranstaltungen von ASV Falkenberger Angelfreunde 1947 e.V.
REFRESH-INTERVAL;VALUE=DURATION:PT1440M
X-PUBLISHED-TTL:PT1440M
BEGIN:VTIMEZONE
TZID:Europe/Berlin
BEGIN:DAYLIGHT
DTSTART:20260329T020000Z
TZOFFSETFROM:+0100
TZOFFSETTO:+0200
END:DAYLIGHT
BEGIN:STANDARD
DTSTART:20261025T030000Z
TZOFFSETFROM:+0200
TZOFFSETTO:+0100
END:STANDARD
END:VTIMEZONE
BEGIN:VTIMEZONE
TZID:UTC
BEGIN:STANDARD
DTSTART:20250728T095402Z
TZOFFSETFROM:+0000
TZOFFSETTO:+0000
END:STANDARD
END:VTIMEZONE
BEGIN:VEVENT
UID:142-134
DTSTAMP:20260424T095402Z
SUMMARY:2. Feeder-CUP im Werk IV Mühlberg
LOCATION:Mühlberg Werk IV   Mühlberg/Elbe
ORGANIZER;CN=Thomas Voigt:MAILTO:thomas.voigt@falkenberger-angelfreunde.de
DTSTART;TZID=Europe/Berlin:20260919T090000
DTEND;TZID=Europe/Berlin:20260919T130000
X-ALT-DESC;FMTTYPE=TEXT/HTML:Der ASV Schwarze Elster e.V. lädt ein zum 2. 
 Feeder-CUP am Samstag\, 19.09.2026 im Werk IV Mühlberg. Das Angeln beginn
 t um 09:00 Uhr und endet um 13:00 Uhr. Hegezwecke sind die Kontrolle des F
 ischbestandes und die Überprüfung der Fischgesundheit/Komoranschäden. D
 ie Kosten betragen 25 € pro Teilnehmer und können vor Ort gezahlt werde
 n. Eine warme Mahlzeit&amp;hellip\;
CATEGORIES:,  Sonstige Veranstaltungen
URL;VALUE=URI:https://falkenberger-angelfreunde.de/mc-events/2-feeder-cup-i
 m-werk-iv-muehlberg/
METHOD:PUBLISH
END:VEVENT
END:VCALENDAR